BEGIN:VCALENDAR
VERSION:2.0
PRODID:-//Kemena Pacific Hospital - ECPv6.11.2//NONSGML v1.0//EN
CALSCALE:GREGORIAN
METHOD:PUBLISH
X-WR-CALNAME:Kemena Pacific Hospital
X-ORIGINAL-URL:https://kemenapacific.com
X-WR-CALDESC:Events for Kemena Pacific Hospital
REFRESH-INTERVAL;VALUE=DURATION:PT1H
X-Robots-Tag:noindex
X-PUBLISHED-TTL:PT1H
BEGIN:VTIMEZONE
TZID:Asia/Kuching
BEGIN:STANDARD
TZOFFSETFROM:+0800
TZOFFSETTO:+0800
TZNAME:+08
DTSTART:20250101T000000
END:STANDARD
END:VTIMEZONE
BEGIN:VEVENT
DTSTART;TZID=Asia/Kuching:20250809T090000
DTEND;TZID=Asia/Kuching:20250809T120000
DTSTAMP:20260420T141403
CREATED:20250714T022853Z
LAST-MODIFIED:20250714T022853Z
UID:1633-1754730000-1754740800@kemenapacific.com
SUMMARY:3rd Blood Donation 2025
DESCRIPTION:𝐖𝐡𝐲 𝐃𝐨𝐧𝐚𝐭𝐞 𝐁𝐥𝐨𝐨𝐝?\nBecause one donation can save up to three lives.It’s safe\, simple\, and it takes less than an hour.Blood is needed every day — for surgeries\, accidents\, and patients in critical care.\nJoin us in giving the gift of life through blood donation.Your contribution matters. Save the date and share with someone who might be a life saver!\n\n#DonateBlood #SaveLives #KemenaPacificHospital #BintuluBloodBank
URL:https://kemenapacific.com/event/3rd-blood-donation-2025/
LOCATION:Kemena Pacific Hospital\, Lot 3582\, Block 26\, Jalan Tan Sri Ikhwan\, Kemena Land District\, Tanjung Kidurong\, Bintulu\, Sarawak\, 97000\, Malaysia
CATEGORIES:Upcoming Events
ATTACH;FMTTYPE=image/png:https://kemenapacific.com/wp-content/uploads/2025/07/Blood-Donation.png
ORGANIZER;CN="Kemena Pacific Hospital":MAILTO:marketing.bintulu@kemenapacific.com
END:VEVENT
END:VCALENDAR